BEGIN:VCALENDAR
VERSION:2.0
PRODID:-//wp-events-plugin.com//6.1.4//EN
TZID:Asia/Kuala_Lumpur
X-WR-TIMEZONE:Asia/Kuala_Lumpur
BEGIN:VEVENT
UID:38@aiadr.world
DTSTART;TZID=Asia/Kuala_Lumpur:20260507T100000
DTEND;TZID=Asia/Kuala_Lumpur:20260508T180000
DTSTAMP:20260304T061052Z
URL:https://aiadr.world/events/2nd-edition-tribunal-secretary-course/
SUMMARY:Tribunal Secretary Course (2nd Edition)
DESCRIPTION:This intensive two-day programme offers a focused and practical
  exploration of the Tribunal Secretary’s role\, with emphasis on procedu
 ral management\, ethical responsibilities\, and best practices in supporti
 ng arbitral tribunals. Designed for legal practitioners and ADR profession
 als\, the course is structured to bridge the gap between academic understa
 nding and the high-level administrative competence required in contemporar
 y dispute resolution.\n\n\n\n&nbsp\;\n\n&nbsp\;\n\n&nbsp\;\n\n&nbsp\;\n\n&
 nbsp\;\n\n&nbsp\;\n\nJoin a growing network of professionals trained under
  a programme endorsed by leading regional arbitration institutions.\n\nReg
 ister by scanning the QR code or https://forms.gle/scbsdYHVmaK8RKrCA for f
 urther information.
ATTACH;FMTTYPE=image/jpeg:https://aiadr.world/wp-content/uploads/2026/03/T
 .Secretary-Malaysia-4.png
END:VEVENT
BEGIN:VTIMEZONE
TZID:Asia/Kuala_Lumpur
X-LIC-LOCATION:Asia/Kuala_Lumpur
BEGIN:STANDARD
DTSTART:20250507T100000
TZOFFSETFROM:+0800
TZOFFSETTO:+0800
TZNAME:+08
END:STANDARD
END:VTIMEZONE
END:VCALENDAR