BEGIN:VCALENDAR
VERSION:2.0
PRODID:-//wp-events-plugin.com//6.1.4//EN
TZID:Asia/Kuala_Lumpur
X-WR-TIMEZONE:Asia/Kuala_Lumpur
BEGIN:VEVENT
UID:40@aiadr.world
DTSTART;TZID=Asia/Kuala_Lumpur:20260725T000000
DTEND;TZID=Asia/Kuala_Lumpur:20261011T000000
DTSTAMP:20260304T063339Z
URL:https://aiadr.world/events/3rd-aiadr-international-mediation-competiti
 on/
SUMMARY:3rd AIADR International Mediation Competition
DESCRIPTION:AIADR International Mediation Competition 2026\, organised in c
 ollaboration with the Nanning International Arbitration Court (NIAC)\, Chi
 na.\n\nAn international advocacy platform for the next generation of legal
  professionals specialising in mediation and ADR\, this competition offers
  participants a rigorous and practice-oriented experience in international
  dispute resolution.\n\nMarking a significant milestone\, the Semi-Final a
 nd Final Rounds will be held at the Nanning International Arbitration Cour
 t (NIAC)\, China\, providing participants with exceptional institutional e
 xposure on a global stage.\n\nCompetition Timeline:\n\n\n\n&nbsp\;\n\n&nbs
 p\;\n\n&nbsp\;\n\n&nbsp\;\n\n&nbsp\;\n\n&nbsp\;\n\nRegister via: https://f
 orms.gle/HUkH8ULmbvcoovGQ9\n\nFor competition-related enquiries: thesecret
 ariat@aiadr.world
ATTACH;FMTTYPE=image/jpeg:https://aiadr.world/wp-content/uploads/2026/03/2
 026-competition-cover-1.png
END:VEVENT
BEGIN:VTIMEZONE
TZID:Asia/Kuala_Lumpur
X-LIC-LOCATION:Asia/Kuala_Lumpur
BEGIN:STANDARD
DTSTART:20250725T000000
TZOFFSETFROM:+0800
TZOFFSETTO:+0800
TZNAME:+08
END:STANDARD
END:VTIMEZONE
END:VCALENDAR