BEGIN:VCALENDAR
VERSION:2.0
PRODID:-//wp-events-plugin.com//6.1.4//EN
TZID:Asia/Kuala_Lumpur
X-WR-TIMEZONE:Asia/Kuala_Lumpur
BEGIN:VEVENT
UID:39@aiadr.world
DTSTART;TZID=Asia/Kuala_Lumpur;VALUE=DATE:20261204
DTEND;TZID=Asia/Kuala_Lumpur;VALUE=DATE:20261207
DTSTAMP:20260304T062353Z
URL:https://aiadr.world/events/asia-adr-summit-2026/
SUMMARY:Asia ADR Summit 2026
DESCRIPTION:&nbsp\;\n\nThe Asian Institute of Alternative Dispute Resolutio
 n (AIADR)\, in collaboration with the Nepal International ADR Centre (NIAC
 )\, is pleased to announce the 3rd Asia ADR Summit 2026 \, to be held in K
 athmandu\, Nepal\, from 4–6 December 2026\, in conjunction with the 2nd 
 Nepal ADR Week.\n\nThis milestone edition of the Asia ADR Summit will conv
 ene leading practitioners\, academics\, policymakers\, and industry stakeh
 olders from across the region and beyond under the theme: “Reaching the 
 Pinnacle of ADR in a Changing World.”\n\nSet against the historic and cu
 ltural backdrop of Kathmandu\, this gathering reflects a shared commitment
  to strengthening institutional cooperation and shaping the future traject
 ory of ADR in Asia and internationally.\n\nFurther details will be announc
 ed in due course.
ATTACH;FMTTYPE=image/jpeg:https://aiadr.world/wp-content/uploads/2026/03/S
 ummit-save-the-date-1.png
END:VEVENT
BEGIN:VTIMEZONE
TZID:Asia/Kuala_Lumpur
X-LIC-LOCATION:Asia/Kuala_Lumpur
BEGIN:STANDARD
DTSTART:20251204T000000
TZOFFSETFROM:+0800
TZOFFSETTO:+0800
TZNAME:+08
END:STANDARD
END:VTIMEZONE
END:VCALENDAR